BEGIN:VCALENDAR
VERSION:2.0
PRODID:-//Foxwood Hills - ECPv6.0.10//NONSGML v1.0//EN
CALSCALE:GREGORIAN
METHOD:PUBLISH
X-WR-CALNAME:Foxwood Hills
X-ORIGINAL-URL:https://www.foxwoodhills.net
X-WR-CALDESC:Events for Foxwood Hills
REFRESH-INTERVAL;VALUE=DURATION:PT1H
X-Robots-Tag:noindex
X-PUBLISHED-TTL:PT1H
BEGIN:VTIMEZONE
TZID:America/New_York
BEGIN:DAYLIGHT
TZOFFSETFROM:-0500
TZOFFSETTO:-0400
TZNAME:EDT
DTSTART:20260308T070000
END:DAYLIGHT
BEGIN:STANDARD
TZOFFSETFROM:-0400
TZOFFSETTO:-0500
TZNAME:EST
DTSTART:20261101T060000
END:STANDARD
END:VTIMEZONE
BEGIN:VEVENT
DTSTART;TZID=America/New_York:20260304T130000
DTEND;TZID=America/New_York:20260304T160000
DTSTAMP:20260419T194104
CREATED:20251117T130104Z
LAST-MODIFIED:20251117T130204Z
UID:10000727-1772629200-1772640000@www.foxwoodhills.net
SUMMARY:Mahjong
DESCRIPTION:
URL:https://www.foxwoodhills.net/event/mahjong/2026-03-04/
LOCATION:Clubhouse
END:VEVENT
BEGIN:VEVENT
DTSTART;TZID=America/New_York:20260305T183000
DTEND;TZID=America/New_York:20260305T203000
DTSTAMP:20260419T194104
CREATED:20260304T161707Z
LAST-MODIFIED:20260304T161707Z
UID:10000826-1772735400-1772742600@www.foxwoodhills.net
SUMMARY:Bingo
DESCRIPTION:
URL:https://www.foxwoodhills.net/event/bingo-5/
LOCATION:Clubhouse
END:VEVENT
BEGIN:VEVENT
DTSTART;TZID=America/New_York:20260311T130000
DTEND;TZID=America/New_York:20260311T160000
DTSTAMP:20260419T194104
CREATED:20251117T130104Z
LAST-MODIFIED:20251117T130204Z
UID:10000728-1773234000-1773244800@www.foxwoodhills.net
SUMMARY:Mahjong
DESCRIPTION:
URL:https://www.foxwoodhills.net/event/mahjong/2026-03-11/
LOCATION:Clubhouse
END:VEVENT
BEGIN:VEVENT
DTSTART;TZID=America/New_York:20260312T190000
DTEND;TZID=America/New_York:20260312T200000
DTSTAMP:20260419T194104
CREATED:20260304T161852Z
LAST-MODIFIED:20260304T161852Z
UID:10000827-1773342000-1773345600@www.foxwoodhills.net
SUMMARY:Trivia
DESCRIPTION:
URL:https://www.foxwoodhills.net/event/trivia-3/
LOCATION:Clubhouse
END:VEVENT
BEGIN:VEVENT
DTSTART;TZID=America/New_York:20260314T180000
DTEND;TZID=America/New_York:20260314T220000
DTSTAMP:20260419T194104
CREATED:20260304T162027Z
LAST-MODIFIED:20260304T162044Z
UID:10000828-1773511200-1773525600@www.foxwoodhills.net
SUMMARY:Saint Patrick's Day
DESCRIPTION:Fun at the Lodge!
URL:https://www.foxwoodhills.net/event/saint-patricks-day/
LOCATION:Clubhouse
END:VEVENT
BEGIN:VEVENT
DTSTART;TZID=America/New_York:20260318T130000
DTEND;TZID=America/New_York:20260318T160000
DTSTAMP:20260419T194104
CREATED:20251117T130104Z
LAST-MODIFIED:20251117T130204Z
UID:10000729-1773838800-1773849600@www.foxwoodhills.net
SUMMARY:Mahjong
DESCRIPTION:
URL:https://www.foxwoodhills.net/event/mahjong/2026-03-18/
LOCATION:Clubhouse
END:VEVENT
BEGIN:VEVENT
DTSTART;TZID=America/New_York:20260319T170000
DTEND;TZID=America/New_York:20260319T170000
DTSTAMP:20260419T194104
CREATED:20260304T162119Z
LAST-MODIFIED:20260304T162119Z
UID:10000829-1773939600-1773939600@www.foxwoodhills.net
SUMMARY:Ballot Deadline
DESCRIPTION:
URL:https://www.foxwoodhills.net/event/ballot-deadline/
END:VEVENT
BEGIN:VEVENT
DTSTART;TZID=America/New_York:20260319T183000
DTEND;TZID=America/New_York:20260319T203000
DTSTAMP:20260419T194104
CREATED:20260304T162236Z
LAST-MODIFIED:20260304T162236Z
UID:10000830-1773945000-1773952200@www.foxwoodhills.net
SUMMARY:Bingo
DESCRIPTION:
URL:https://www.foxwoodhills.net/event/bingo-6/
LOCATION:Clubhouse
END:VEVENT
BEGIN:VEVENT
DTSTART;TZID=America/New_York:20260321T090000
DTEND;TZID=America/New_York:20260321T110000
DTSTAMP:20260419T194104
CREATED:20260304T162346Z
LAST-MODIFIED:20260304T162346Z
UID:10000831-1774083600-1774090800@www.foxwoodhills.net
SUMMARY:Annual Meeting
DESCRIPTION:
URL:https://www.foxwoodhills.net/event/annual-meeting/
LOCATION:Clubhouse
END:VEVENT
BEGIN:VEVENT
DTSTART;TZID=America/New_York:20260321T180000
DTEND;TZID=America/New_York:20260321T210000
DTSTAMP:20260419T194104
CREATED:20260304T162517Z
LAST-MODIFIED:20260304T162517Z
UID:10000832-1774116000-1774126800@www.foxwoodhills.net
SUMMARY:Sip & Paint
DESCRIPTION:
URL:https://www.foxwoodhills.net/event/sip-paint/
END:VEVENT
BEGIN:VEVENT
DTSTART;TZID=America/New_York:20260325T130000
DTEND;TZID=America/New_York:20260325T160000
DTSTAMP:20260419T194104
CREATED:20251117T130104Z
LAST-MODIFIED:20251117T130204Z
UID:10000730-1774443600-1774454400@www.foxwoodhills.net
SUMMARY:Mahjong
DESCRIPTION:
URL:https://www.foxwoodhills.net/event/mahjong/2026-03-25/
LOCATION:Clubhouse
END:VEVENT
BEGIN:VEVENT
DTSTART;TZID=America/New_York:20260327T190000
DTEND;TZID=America/New_York:20260327T220000
DTSTAMP:20260419T194104
CREATED:20260304T162601Z
LAST-MODIFIED:20260304T162601Z
UID:10000833-1774638000-1774648800@www.foxwoodhills.net
SUMMARY:Karaoke
DESCRIPTION:
URL:https://www.foxwoodhills.net/event/karaoke-5/
LOCATION:Clubhouse
END:VEVENT
END:VCALENDAR